BEGIN:VCALENDAR
VERSION:2.0
PRODID:-//Les Routiers Suisses - ECPv6.2.8.1//NONSGML v1.0//EN
CALSCALE:GREGORIAN
METHOD:PUBLISH
X-ORIGINAL-URL:https://routiers-belchen.ch
X-WR-CALDESC:Veranstaltungen für Les Routiers Suisses
REFRESH-INTERVAL;VALUE=DURATION:PT1H
X-Robots-Tag:noindex
X-PUBLISHED-TTL:PT1H
BEGIN:VTIMEZONE
TZID:Europe/Berlin
BEGIN:DAYLIGHT
TZOFFSETFROM:+0100
TZOFFSETTO:+0200
TZNAME:CEST
DTSTART:20260329T010000
END:DAYLIGHT
BEGIN:STANDARD
TZOFFSETFROM:+0200
TZOFFSETTO:+0100
TZNAME:CET
DTSTART:20261025T010000
END:STANDARD
END:VTIMEZONE
BEGIN:VEVENT
DTSTART;TZID=Europe/Berlin:20260703T190000
DTEND;TZID=Europe/Berlin:20260703T230000
DTSTAMP:20260423T003934
CREATED:20260126T135215Z
LAST-MODIFIED:20260126T135215Z
UID:6552-1783105200-1783119600@routiers-belchen.ch
SUMMARY:Mini - Golf
DESCRIPTION:
URL:https://routiers-belchen.ch/event/mini-golf-8/
LOCATION:Minigolf Ergolz\, Giebenacherstrasse 101\, Pratteln\, 4133\, Schweiz
CATEGORIES:Anlässe
ATTACH;FMTTYPE=image/jpeg:https://routiers-belchen.ch/wp-content/uploads/2025/07/Minigolf-17.jpg
ORGANIZER;CN="Judith Omlin":MAILTO:judith.omlin@routiers-belchen.ch
END:VEVENT
BEGIN:VEVENT
DTSTART;TZID=Europe/Berlin:20260710T080000
DTEND;TZID=Europe/Berlin:20260710T170000
DTSTAMP:20260423T003934
CREATED:20251124T125553Z
LAST-MODIFIED:20251124T125553Z
UID:6449-1783670400-1783702800@routiers-belchen.ch
SUMMARY:Motivation
DESCRIPTION:Kurs-Nr. 33824
URL:https://routiers-belchen.ch/event/motivation/
LOCATION:Hotel Restaurant Schiff\, Salinestrasse 2\, Möhlin\, 4313\, Schweiz
CATEGORIES:Kurse
ORGANIZER;CN="Michael Klose":MAILTO:michael.klose.rheinfelden@t-online.de
END:VEVENT
END:VCALENDAR