BEGIN:VCALENDAR
VERSION:2.0
PRODID:-//Les Routiers Suisses - ECPv6.2.8.1//NONSGML v1.0//EN
CALSCALE:GREGORIAN
METHOD:PUBLISH
X-WR-CALNAME:Les Routiers Suisses
X-ORIGINAL-URL:https://routiers-belchen.ch
X-WR-CALDESC:Veranstaltungen für Les Routiers Suisses
REFRESH-INTERVAL;VALUE=DURATION:PT1H
X-Robots-Tag:noindex
X-PUBLISHED-TTL:PT1H
BEGIN:VTIMEZONE
TZID:Europe/Berlin
BEGIN:DAYLIGHT
TZOFFSETFROM:+0100
TZOFFSETTO:+0200
TZNAME:CEST
DTSTART:20260329T010000
END:DAYLIGHT
BEGIN:STANDARD
TZOFFSETFROM:+0200
TZOFFSETTO:+0100
TZNAME:CET
DTSTART:20261025T010000
END:STANDARD
END:VTIMEZONE
BEGIN:VEVENT
DTSTART;TZID=Europe/Berlin:20260818T080000
DTEND;TZID=Europe/Berlin:20260818T170000
DTSTAMP:20260423T020635
CREATED:20251124T125653Z
LAST-MODIFIED:20251124T125653Z
UID:6451-1787040000-1787072400@routiers-belchen.ch
SUMMARY:Legal\, illegal\, Rechte und Pflichte
DESCRIPTION:Kurs-Nr. 33825
URL:https://routiers-belchen.ch/event/legal-illegal-rechte-und-pflichte/
LOCATION:Hotel Restaurant Schiff\, Salinestrasse 2\, Möhlin\, 4313\, Schweiz
CATEGORIES:Kurse
ORGANIZER;CN="Michael Klose":MAILTO:michael.klose.rheinfelden@t-online.de
END:VEVENT
BEGIN:VEVENT
DTSTART;TZID=Europe/Berlin:20260822T150000
DTEND;TZID=Europe/Berlin:20260822T213000
DTSTAMP:20260423T020635
CREATED:20260126T135428Z
LAST-MODIFIED:20260126T135428Z
UID:6554-1787410800-1787434200@routiers-belchen.ch
SUMMARY:Hock
DESCRIPTION:
URL:https://routiers-belchen.ch/event/hock-7/
LOCATION:Garage Marugg GmbH (Postgarage)\, Sissacherstrasse 15\, Gelterkinden\, 4460\, Schweiz
CATEGORIES:Anlässe
ATTACH;FMTTYPE=image/jpeg:https://routiers-belchen.ch/wp-content/uploads/2025/08/08-Hock-20.jpg
ORGANIZER;CN="Judith Omlin":MAILTO:judith.omlin@routiers-belchen.ch
END:VEVENT
BEGIN:VEVENT
DTSTART;TZID=Europe/Berlin:20260826T080000
DTEND;TZID=Europe/Berlin:20260826T170000
DTSTAMP:20260423T020635
CREATED:20251124T125749Z
LAST-MODIFIED:20251124T125749Z
UID:6453-1787731200-1787763600@routiers-belchen.ch
SUMMARY:Unfall was nun
DESCRIPTION:Kurs-Nr. 33826
URL:https://routiers-belchen.ch/event/unfall-was-nun-17/
LOCATION:Hotel Restaurant Schiff\, Salinestrasse 2\, Möhlin\, 4313\, Schweiz
CATEGORIES:Kurse
ORGANIZER;CN="Michael Klose":MAILTO:michael.klose.rheinfelden@t-online.de
END:VEVENT
END:VCALENDAR