BEGIN:VCALENDAR
VERSION:2.0
PRODID:-//Les Routiers Suisses - ECPv6.2.8.1//NONSGML v1.0//EN
CALSCALE:GREGORIAN
METHOD:PUBLISH
X-ORIGINAL-URL:https://routiers-belchen.ch
X-WR-CALDESC:Veranstaltungen für Les Routiers Suisses
REFRESH-INTERVAL;VALUE=DURATION:PT1H
X-Robots-Tag:noindex
X-PUBLISHED-TTL:PT1H
BEGIN:VTIMEZONE
TZID:Europe/Berlin
BEGIN:DAYLIGHT
TZOFFSETFROM:+0100
TZOFFSETTO:+0200
TZNAME:CEST
DTSTART:20260329T010000
END:DAYLIGHT
BEGIN:STANDARD
TZOFFSETFROM:+0200
TZOFFSETTO:+0100
TZNAME:CET
DTSTART:20261025T010000
END:STANDARD
END:VTIMEZONE
BEGIN:VEVENT
DTSTART;TZID=Europe/Berlin:20261005T080000
DTEND;TZID=Europe/Berlin:20261006T170000
DTSTAMP:20260423T184508
CREATED:20251124T130154Z
LAST-MODIFIED:20251124T130154Z
UID:6461-1791187200-1791306000@routiers-belchen.ch
SUMMARY:Wiederholungskurs SDR / ADR
DESCRIPTION:Kurs-Nr.  33829
URL:https://routiers-belchen.ch/event/wiederholungskurs-sdr-adr-17/
LOCATION:Hotel Restaurant Schiff\, Salinestrasse 2\, Möhlin\, 4313\, Schweiz
CATEGORIES:Kurse
ORGANIZER;CN="Michael Klose":MAILTO:michael.klose.rheinfelden@t-online.de
END:VEVENT
BEGIN:VEVENT
DTSTART;TZID=Europe/Berlin:20261016T080000
DTEND;TZID=Europe/Berlin:20261016T170000
DTSTAMP:20260423T184508
CREATED:20251124T130304Z
LAST-MODIFIED:20251124T130304Z
UID:6463-1792137600-1792170000@routiers-belchen.ch
SUMMARY:7 Regeln um den Transport
DESCRIPTION:Kurs-Nr. 33830
URL:https://routiers-belchen.ch/event/7-regeln-um-den-transport-2/
LOCATION:Hotel Restaurant Schiff\, Salinestrasse 2\, Möhlin\, 4313\, Schweiz
CATEGORIES:Kurse
ORGANIZER;CN="Michael Klose":MAILTO:michael.klose.rheinfelden@t-online.de
END:VEVENT
BEGIN:VEVENT
DTSTART;TZID=Europe/Berlin:20261024T080000
DTEND;TZID=Europe/Berlin:20261024T170000
DTSTAMP:20260423T184508
CREATED:20251124T130401Z
LAST-MODIFIED:20251124T130401Z
UID:6465-1792828800-1792861200@routiers-belchen.ch
SUMMARY:Heutige Fahrzeugtechnik
DESCRIPTION:Kurs-Nr. 33831
URL:https://routiers-belchen.ch/event/heutige-fahrzeugtechnik-6/
LOCATION:Garage Marugg GmbH (Postgarage)\, Sissacherstrasse 15\, Gelterkinden\, 4460\, Schweiz
CATEGORIES:Kurse
ORGANIZER;CN="Michael Klose":MAILTO:michael.klose.rheinfelden@t-online.de
END:VEVENT
BEGIN:VEVENT
DTSTART;TZID=Europe/Berlin:20261024T190000
DTEND;TZID=Europe/Berlin:20261024T233000
DTSTAMP:20260423T184508
CREATED:20260126T135741Z
LAST-MODIFIED:20260126T135741Z
UID:6558-1792868400-1792884600@routiers-belchen.ch
SUMMARY:Bowlen
DESCRIPTION:
URL:https://routiers-belchen.ch/event/bowlen-9/
LOCATION:Restaurant Vicino\, Rössligasse 1\, Muttenz\, BL\, 4132\, Schweiz
CATEGORIES:Anlässe
ATTACH;FMTTYPE=image/jpeg:https://routiers-belchen.ch/wp-content/uploads/2025/11/10-Bowlen-4.jpg
END:VEVENT
END:VCALENDAR