BEGIN:VCALENDAR
VERSION:2.0
PRODID:-//Les Routiers Suisses - ECPv6.2.8.1//NONSGML v1.0//EN
CALSCALE:GREGORIAN
METHOD:PUBLISH
X-WR-CALNAME:Les Routiers Suisses
X-ORIGINAL-URL:https://routiers-belchen.ch
X-WR-CALDESC:Veranstaltungen für Les Routiers Suisses
REFRESH-INTERVAL;VALUE=DURATION:PT1H
X-Robots-Tag:noindex
X-PUBLISHED-TTL:PT1H
BEGIN:VTIMEZONE
TZID:Europe/Berlin
BEGIN:DAYLIGHT
TZOFFSETFROM:+0100
TZOFFSETTO:+0200
TZNAME:CEST
DTSTART:20260329T010000
END:DAYLIGHT
BEGIN:STANDARD
TZOFFSETFROM:+0200
TZOFFSETTO:+0100
TZNAME:CET
DTSTART:20261025T010000
END:STANDARD
END:VTIMEZONE
BEGIN:VEVENT
DTSTART;TZID=Europe/Berlin:20260315T100000
DTEND;TZID=Europe/Berlin:20260315T140000
DTSTAMP:20260419T154742
CREATED:20260126T134249Z
LAST-MODIFIED:20260126T134249Z
UID:6545-1773568800-1773583200@routiers-belchen.ch
SUMMARY:Sonntagsbrunch auf dem Hof Schlief in Arboldswil
DESCRIPTION:
URL:https://routiers-belchen.ch/event/sonntagsbrunch-auf-dem-hof-schlief-in-arboldswil/
LOCATION:Hof Schlief\, Arboldswil\, Arboldswil
CATEGORIES:Anlässe
ORGANIZER;CN="Judith Omlin":MAILTO:judith.omlin@routiers-belchen.ch
END:VEVENT
END:VCALENDAR